BEGIN:VCALENDAR
VERSION:2.0
PRODID:-//Vrouwen in Actie - Bergen op Zoom - Halsteren - ECPv6.15.20//NONSGML v1.0//EN
CALSCALE:GREGORIAN
METHOD:PUBLISH
X-WR-CALNAME:Vrouwen in Actie - Bergen op Zoom - Halsteren
X-ORIGINAL-URL:https://www.vrouweninactie.nl
X-WR-CALDESC:Events for Vrouwen in Actie - Bergen op Zoom - Halsteren
REFRESH-INTERVAL;VALUE=DURATION:PT1H
X-Robots-Tag:noindex
X-PUBLISHED-TTL:PT1H
BEGIN:VTIMEZONE
TZID:Europe/Amsterdam
BEGIN:DAYLIGHT
TZOFFSETFROM:+0100
TZOFFSETTO:+0200
TZNAME:CEST
DTSTART:20210328T010000
END:DAYLIGHT
BEGIN:STANDARD
TZOFFSETFROM:+0200
TZOFFSETTO:+0100
TZNAME:CET
DTSTART:20211031T010000
END:STANDARD
BEGIN:DAYLIGHT
TZOFFSETFROM:+0100
TZOFFSETTO:+0200
TZNAME:CEST
DTSTART:20220327T010000
END:DAYLIGHT
BEGIN:STANDARD
TZOFFSETFROM:+0200
TZOFFSETTO:+0100
TZNAME:CET
DTSTART:20221030T010000
END:STANDARD
BEGIN:DAYLIGHT
TZOFFSETFROM:+0100
TZOFFSETTO:+0200
TZNAME:CEST
DTSTART:20230326T010000
END:DAYLIGHT
BEGIN:STANDARD
TZOFFSETFROM:+0200
TZOFFSETTO:+0100
TZNAME:CET
DTSTART:20231029T010000
END:STANDARD
BEGIN:DAYLIGHT
TZOFFSETFROM:+0100
TZOFFSETTO:+0200
TZNAME:CEST
DTSTART:20240331T010000
END:DAYLIGHT
BEGIN:STANDARD
TZOFFSETFROM:+0200
TZOFFSETTO:+0100
TZNAME:CET
DTSTART:20241027T010000
END:STANDARD
BEGIN:DAYLIGHT
TZOFFSETFROM:+0100
TZOFFSETTO:+0200
TZNAME:CEST
DTSTART:20250330T010000
END:DAYLIGHT
BEGIN:STANDARD
TZOFFSETFROM:+0200
TZOFFSETTO:+0100
TZNAME:CET
DTSTART:20251026T010000
END:STANDARD
BEGIN:DAYLIGHT
TZOFFSETFROM:+0100
TZOFFSETTO:+0200
TZNAME:CEST
DTSTART:20260329T010000
END:DAYLIGHT
BEGIN:STANDARD
TZOFFSETFROM:+0200
TZOFFSETTO:+0100
TZNAME:CET
DTSTART:20261025T010000
END:STANDARD
END:VTIMEZONE
BEGIN:VEVENT
DTSTART;TZID=Europe/Amsterdam:20250116T193000
DTEND;TZID=Europe/Amsterdam:20250116T223000
DTSTAMP:20260423T005415
CREATED:20250102T175916Z
LAST-MODIFIED:20250102T175916Z
UID:868-1737055800-1737066600@www.vrouweninactie.nl
SUMMARY:Lezing De waarheid van de leugen - hr. van Spreeken
DESCRIPTION:
URL:https://www.vrouweninactie.nl/event/lezing-de-waarheid-van-de-leugen-hr-van-spreeken/
LOCATION:Residentie Meilust\, Bloemendaal 61\, Bergen op Zoom\, 4614CZ\, Nederland
END:VEVENT
BEGIN:VEVENT
DTSTART;TZID=Europe/Amsterdam:20241212T170000
DTEND;TZID=Europe/Amsterdam:20241212T220000
DTSTAMP:20260423T005415
CREATED:20240324T115652Z
LAST-MODIFIED:20240324T115652Z
UID:851-1734022800-1734040800@www.vrouweninactie.nl
SUMMARY:Kerstdiner
DESCRIPTION:
URL:https://www.vrouweninactie.nl/event/kerstdiner/
LOCATION:Curio
END:VEVENT
BEGIN:VEVENT
DTSTART;TZID=Europe/Amsterdam:20241128T193000
DTEND;TZID=Europe/Amsterdam:20241128T223000
DTSTAMP:20260423T005415
CREATED:20240324T115602Z
LAST-MODIFIED:20241025T120937Z
UID:849-1732822200-1732833000@www.vrouweninactie.nl
SUMMARY:Sinterklaasavond
DESCRIPTION:
URL:https://www.vrouweninactie.nl/event/sinterklaasavond/
LOCATION:Residentie Meilust\, Bloemendaal 61\, Bergen op Zoom\, 4614CZ\, Nederland
END:VEVENT
BEGIN:VEVENT
DTSTART;TZID=Europe/Amsterdam:20241017T140000
DTEND;TZID=Europe/Amsterdam:20241017T170000
DTSTAMP:20260423T005415
CREATED:20240324T115500Z
LAST-MODIFIED:20240324T115500Z
UID:847-1729173600-1729184400@www.vrouweninactie.nl
SUMMARY:Goed slapen\, lezing P. Maasdonks
DESCRIPTION:
URL:https://www.vrouweninactie.nl/event/goed-slapen-lezing-p-maasdonks/
LOCATION:Residentie Meilust\, Bloemendaal 61\, Bergen op Zoom\, 4614CZ\, Nederland
END:VEVENT
BEGIN:VEVENT
DTSTART;TZID=Europe/Amsterdam:20240919T193000
DTEND;TZID=Europe/Amsterdam:20240919T223000
DTSTAMP:20260423T005415
CREATED:20240324T115403Z
LAST-MODIFIED:20240829T084254Z
UID:845-1726774200-1726785000@www.vrouweninactie.nl
SUMMARY:Lezing medicijngebruik bij ouderen
DESCRIPTION:
URL:https://www.vrouweninactie.nl/event/presentatie-mode-debbie-de-brie/
LOCATION:Residentie Meilust\, Bloemendaal 61\, Bergen op Zoom\, 4614CZ\, Nederland
END:VEVENT
BEGIN:VEVENT
DTSTART;TZID=Europe/Amsterdam:20240620T140000
DTEND;TZID=Europe/Amsterdam:20240620T173000
DTSTAMP:20260423T005415
CREATED:20240109T112802Z
LAST-MODIFIED:20240109T112802Z
UID:805-1718892000-1718904600@www.vrouweninactie.nl
SUMMARY:High tea
DESCRIPTION:
URL:https://www.vrouweninactie.nl/event/high-tea/
LOCATION:Fam. Schapendonk\, Den Berg 1\, Halsteren\, 4661 KX\, Nederland
END:VEVENT
BEGIN:VEVENT
DTSTART;TZID=Europe/Amsterdam:20240516T140000
DTEND;TZID=Europe/Amsterdam:20240516T170000
DTSTAMP:20260423T005415
CREATED:20240109T112642Z
LAST-MODIFIED:20240324T115049Z
UID:803-1715868000-1715878800@www.vrouweninactie.nl
SUMMARY:Online veiligheid\, lezing Marieke Liefting
DESCRIPTION:
URL:https://www.vrouweninactie.nl/event/nadere-informatie-volgt-4/
LOCATION:Residentie Meilust\, Bloemendaal 61\, Bergen op Zoom\, 4614CZ\, Nederland
END:VEVENT
BEGIN:VEVENT
DTSTART;TZID=Europe/Amsterdam:20240418T193000
DTEND;TZID=Europe/Amsterdam:20240418T223000
DTSTAMP:20260423T005415
CREATED:20240109T112534Z
LAST-MODIFIED:20240324T115228Z
UID:801-1713468600-1713479400@www.vrouweninactie.nl
SUMMARY:Stormvloeden die de Delta teisterden - Hr. de Kraker
DESCRIPTION:
URL:https://www.vrouweninactie.nl/event/spelletjesmiddag/
LOCATION:Residentie Meilust\, Bloemendaal 61\, Bergen op Zoom\, 4614CZ\, Nederland
END:VEVENT
BEGIN:VEVENT
DTSTART;TZID=Europe/Amsterdam:20240321T193000
DTEND;TZID=Europe/Amsterdam:20240321T223000
DTSTAMP:20260423T005415
CREATED:20240109T112415Z
LAST-MODIFIED:20240109T112415Z
UID:799-1711049400-1711060200@www.vrouweninactie.nl
SUMMARY:Opticien - Probleem droge ogen
DESCRIPTION:
URL:https://www.vrouweninactie.nl/event/opticien-probleem-droge-ogen/
LOCATION:Residentie Meilust\, Bloemendaal 61\, Bergen op Zoom\, 4614CZ\, Nederland
END:VEVENT
BEGIN:VEVENT
DTSTART;TZID=Europe/Amsterdam:20240215T140000
DTEND;TZID=Europe/Amsterdam:20240215T170000
DTSTAMP:20260423T005415
CREATED:20240109T111744Z
LAST-MODIFIED:20240109T111744Z
UID:797-1708005600-1708016400@www.vrouweninactie.nl
SUMMARY:Ledenvergadering + Ontstaan van Jazz
DESCRIPTION:
URL:https://www.vrouweninactie.nl/event/ledenvergadering-ontstaan-van-jazz/
LOCATION:Residentie Meilust\, Bloemendaal 61\, Bergen op Zoom\, 4614CZ\, Nederland
END:VEVENT
BEGIN:VEVENT
DTSTART;TZID=Europe/Amsterdam:20240118T193000
DTEND;TZID=Europe/Amsterdam:20240118T223000
DTSTAMP:20260423T005415
CREATED:20240109T111527Z
LAST-MODIFIED:20240109T111612Z
UID:795-1705606200-1705617000@www.vrouweninactie.nl
SUMMARY:Muziekbingo
DESCRIPTION:
URL:https://www.vrouweninactie.nl/event/muziekbingo/
LOCATION:Residentie Meilust\, Bloemendaal 61\, Bergen op Zoom\, 4614CZ\, Nederland
END:VEVENT
BEGIN:VEVENT
DTSTART;TZID=Europe/Amsterdam:20231214T140000
DTEND;TZID=Europe/Amsterdam:20231214T170000
DTSTAMP:20260423T005415
CREATED:20221206T123212Z
LAST-MODIFIED:20221206T123212Z
UID:731-1702562400-1702573200@www.vrouweninactie.nl
SUMMARY:Kerstviering
DESCRIPTION:
URL:https://www.vrouweninactie.nl/event/kerstviering-2/
LOCATION:Residentie Meilust\, Bloemendaal 61\, Bergen op Zoom\, 4614CZ\, Nederland
END:VEVENT
BEGIN:VEVENT
DTSTART;TZID=Europe/Amsterdam:20231116T193000
DTEND;TZID=Europe/Amsterdam:20231116T223000
DTSTAMP:20260423T005415
CREATED:20221206T123101Z
LAST-MODIFIED:20221206T123116Z
UID:729-1700163000-1700173800@www.vrouweninactie.nl
SUMMARY:Sinterklaasviering
DESCRIPTION:
URL:https://www.vrouweninactie.nl/event/sinterklaasviering/
LOCATION:Residentie Meilust\, Bloemendaal 61\, Bergen op Zoom\, 4614CZ\, Nederland
END:VEVENT
BEGIN:VEVENT
DTSTART;TZID=Europe/Amsterdam:20231019T140000
DTEND;TZID=Europe/Amsterdam:20231019T170000
DTSTAMP:20260423T005415
CREATED:20221206T123002Z
LAST-MODIFIED:20230912T140624Z
UID:727-1697724000-1697734800@www.vrouweninactie.nl
SUMMARY:Klederdrachten - Tholen
DESCRIPTION:
URL:https://www.vrouweninactie.nl/event/nadere-informatie-volgt-3/
LOCATION:Residentie Meilust\, Bloemendaal 61\, Bergen op Zoom\, 4614CZ\, Nederland
END:VEVENT
BEGIN:VEVENT
DTSTART;TZID=Europe/Amsterdam:20230921T140000
DTEND;TZID=Europe/Amsterdam:20230921T170000
DTSTAMP:20260423T005415
CREATED:20221206T122913Z
LAST-MODIFIED:20230912T140714Z
UID:725-1695304800-1695315600@www.vrouweninactie.nl
SUMMARY:Katja Kreukels - Mijn vader was priester
DESCRIPTION:
URL:https://www.vrouweninactie.nl/event/nadere-informatie-volgt-2/
LOCATION:Residentie Meilust\, Bloemendaal 61\, Bergen op Zoom\, 4614CZ\, Nederland
END:VEVENT
BEGIN:VEVENT
DTSTART;TZID=Europe/Amsterdam:20230608T140000
DTEND;TZID=Europe/Amsterdam:20230608T140000
DTSTAMP:20260423T005415
CREATED:20220928T131728Z
LAST-MODIFIED:20230203T092759Z
UID:710-1686232800-1686232800@www.vrouweninactie.nl
SUMMARY:High tea/high wine
DESCRIPTION:
URL:https://www.vrouweninactie.nl/event/high-tea-high-wine-2/
LOCATION:Fam. Schapendonk\, Den Berg 1\, Halsteren\, 4661 KX\, Nederland
END:VEVENT
BEGIN:VEVENT
DTSTART;TZID=Europe/Amsterdam:20230525T193000
DTEND;TZID=Europe/Amsterdam:20230525T193000
DTSTAMP:20260423T005415
CREATED:20220519T111906Z
LAST-MODIFIED:20230427T172216Z
UID:639-1685043000-1685043000@www.vrouweninactie.nl
SUMMARY:Robert Guinee\, Architectuur
DESCRIPTION:
URL:https://www.vrouweninactie.nl/event/informatie-volgt/
LOCATION:Residentie Meilust\, Bloemendaal 61\, Bergen op Zoom\, 4614CZ\, Nederland
END:VEVENT
BEGIN:VEVENT
DTSTART;TZID=Europe/Amsterdam:20230420T140000
DTEND;TZID=Europe/Amsterdam:20230420T140000
DTSTAMP:20260423T005415
CREATED:20220908T131648Z
LAST-MODIFIED:20220928T131355Z
UID:695-1681999200-1681999200@www.vrouweninactie.nl
SUMMARY:Quiz
DESCRIPTION:
URL:https://www.vrouweninactie.nl/event/nadere-informatie-volgt/
LOCATION:Residentie Meilust\, Bloemendaal 61\, Bergen op Zoom\, 4614CZ\, Nederland
END:VEVENT
BEGIN:VEVENT
DTSTART;TZID=Europe/Amsterdam:20230316T193000
DTEND;TZID=Europe/Amsterdam:20230316T223000
DTSTAMP:20260423T005415
CREATED:20220908T131831Z
LAST-MODIFIED:20230223T140147Z
UID:697-1678995000-1679005800@www.vrouweninactie.nl
SUMMARY:Hart- en vaatziekten Vrouwen - Ad van Gool
DESCRIPTION:
URL:https://www.vrouweninactie.nl/event/hart-en-vaatziekten-vrouwen-ad-van-gool/
LOCATION:Residentie Meilust\, Bloemendaal 61\, Bergen op Zoom\, 4614CZ\, Nederland
END:VEVENT
BEGIN:VEVENT
DTSTART;TZID=Europe/Amsterdam:20230216T140000
DTEND;TZID=Europe/Amsterdam:20230216T170000
DTSTAMP:20260423T005415
CREATED:20220519T110016Z
LAST-MODIFIED:20220928T131847Z
UID:634-1676556000-1676566800@www.vrouweninactie.nl
SUMMARY:Ledenvergadering + creativiteit
DESCRIPTION:
URL:https://www.vrouweninactie.nl/event/ledenvergadering-quiz/
LOCATION:Residentie Meilust\, Bloemendaal 61\, Bergen op Zoom\, 4614CZ\, Nederland
END:VEVENT
BEGIN:VEVENT
DTSTART;TZID=Europe/Amsterdam:20230119T193000
DTEND;TZID=Europe/Amsterdam:20230119T223000
DTSTAMP:20260423T005415
CREATED:20220519T105828Z
LAST-MODIFIED:20220519T105828Z
UID:632-1674156600-1674167400@www.vrouweninactie.nl
SUMMARY:Ilse Landuyt
DESCRIPTION:
URL:https://www.vrouweninactie.nl/event/ilse-landuyt/
LOCATION:Residentie Meilust\, Bloemendaal 61\, Bergen op Zoom\, 4614CZ\, Nederland
END:VEVENT
BEGIN:VEVENT
DTSTART;TZID=Europe/Amsterdam:20221213T170000
DTEND;TZID=Europe/Amsterdam:20221213T170000
DTSTAMP:20260423T005415
CREATED:20211122T104859Z
LAST-MODIFIED:20221206T122324Z
UID:311-1670950800-1670950800@www.vrouweninactie.nl
SUMMARY:Kerstviering
DESCRIPTION:
URL:https://www.vrouweninactie.nl/event/kerstviering/
LOCATION:Curio
END:VEVENT
BEGIN:VEVENT
DTSTART;TZID=Europe/Amsterdam:20221117T193000
DTEND;TZID=Europe/Amsterdam:20221117T223000
DTSTAMP:20260423T005415
CREATED:20211122T104804Z
LAST-MODIFIED:20211122T105628Z
UID:309-1668713400-1668724200@www.vrouweninactie.nl
SUMMARY:Sint-Nicolaasavond
DESCRIPTION:
URL:https://www.vrouweninactie.nl/event/sint-nicolaasavond/
LOCATION:Residentie Meilust\, Bloemendaal 61\, Bergen op Zoom\, 4614CZ\, Nederland
END:VEVENT
BEGIN:VEVENT
DTSTART;TZID=Europe/Amsterdam:20221020T140000
DTEND;TZID=Europe/Amsterdam:20221020T170000
DTSTAMP:20260423T005415
CREATED:20211122T104354Z
LAST-MODIFIED:20220311T193152Z
UID:302-1666274400-1666285200@www.vrouweninactie.nl
SUMMARY:Lezing Addy Verhagen-Antens
DESCRIPTION:
URL:https://www.vrouweninactie.nl/event/lezing-addy-verhagen-antens/
LOCATION:Residentie Meilust\, Bloemendaal 61\, Bergen op Zoom\, 4614CZ\, Nederland
END:VEVENT
BEGIN:VEVENT
DTSTART;TZID=Europe/Amsterdam:20220915T193000
DTEND;TZID=Europe/Amsterdam:20220915T223000
DTSTAMP:20260423T005415
CREATED:20211122T104700Z
LAST-MODIFIED:20211122T105528Z
UID:307-1663270200-1663281000@www.vrouweninactie.nl
SUMMARY:Workshop Kledingadvies
DESCRIPTION:
URL:https://www.vrouweninactie.nl/event/workshop-kledingadvies/
LOCATION:Residentie Meilust\, Bloemendaal 61\, Bergen op Zoom\, 4614CZ\, Nederland
END:VEVENT
BEGIN:VEVENT
DTSTART;TZID=Europe/Amsterdam:20220623T140000
DTEND;TZID=Europe/Amsterdam:20220623T170000
DTSTAMP:20260423T005415
CREATED:20211122T104525Z
LAST-MODIFIED:20211229T124552Z
UID:304-1655992800-1656003600@www.vrouweninactie.nl
SUMMARY:High tea / High wine
DESCRIPTION:
URL:https://www.vrouweninactie.nl/event/high-tea-high-wine/
LOCATION:Fam. Schapendonk\, Den Berg 1\, Halsteren\, 4661 KX\, Nederland
END:VEVENT
BEGIN:VEVENT
DTSTART;TZID=Europe/Amsterdam:20220512T193000
DTEND;TZID=Europe/Amsterdam:20220512T223000
DTSTAMP:20260423T005415
CREATED:20220224T083032Z
LAST-MODIFIED:20220224T083032Z
UID:594-1652383800-1652394600@www.vrouweninactie.nl
SUMMARY:Molenlezing Ad van Gool
DESCRIPTION:
URL:https://www.vrouweninactie.nl/event/molenlezing-ad-van-gool/
LOCATION:Residentie Meilust\, Bloemendaal 61\, Bergen op Zoom\, 4614CZ\, Nederland
END:VEVENT
BEGIN:VEVENT
DTSTART;TZID=Europe/Amsterdam:20220420T140000
DTEND;TZID=Europe/Amsterdam:20220420T170000
DTSTAMP:20260423T005415
CREATED:20220608T111354Z
LAST-MODIFIED:20220608T111354Z
UID:686-1650463200-1650474000@www.vrouweninactie.nl
SUMMARY:Informatie volgt
DESCRIPTION:
URL:https://www.vrouweninactie.nl/event/informatie-volgt-2/
LOCATION:Residentie Meilust\, Bloemendaal 61\, Bergen op Zoom\, 4614CZ\, Nederland
END:VEVENT
BEGIN:VEVENT
DTSTART;TZID=Europe/Amsterdam:20220414T140000
DTEND;TZID=Europe/Amsterdam:20220414T170000
DTSTAMP:20260423T005415
CREATED:20211122T104316Z
LAST-MODIFIED:20211122T105140Z
UID:300-1649944800-1649955600@www.vrouweninactie.nl
SUMMARY:Eric de Jonge - Natuurfotograaf
DESCRIPTION:
URL:https://www.vrouweninactie.nl/event/eric-de-jonge-natuurfotograaf/
LOCATION:Residentie Meilust\, Bloemendaal 61\, Bergen op Zoom\, 4614CZ\, Nederland
END:VEVENT
BEGIN:VEVENT
DTSTART;TZID=Europe/Amsterdam:20220317T193000
DTEND;TZID=Europe/Amsterdam:20220317T223000
DTSTAMP:20260423T005415
CREATED:20211122T104232Z
LAST-MODIFIED:20211122T105106Z
UID:298-1647545400-1647556200@www.vrouweninactie.nl
SUMMARY:Workshop Bloemschikken
DESCRIPTION:Workshop wordt geleid door: Marij van Dijk
URL:https://www.vrouweninactie.nl/event/workshop-bloemschikken/
LOCATION:Residentie Meilust\, Bloemendaal 61\, Bergen op Zoom\, 4614CZ\, Nederland
END:VEVENT
END:VCALENDAR