BEGIN:VCALENDAR
VERSION:2.0
PRODID:-//Vrouwen in Actie - Bergen op Zoom - Halsteren - ECPv6.15.20//NONSGML v1.0//EN
CALSCALE:GREGORIAN
METHOD:PUBLISH
X-ORIGINAL-URL:https://www.vrouweninactie.nl
X-WR-CALDESC:Events for Vrouwen in Actie - Bergen op Zoom - Halsteren
REFRESH-INTERVAL;VALUE=DURATION:PT1H
X-Robots-Tag:noindex
X-PUBLISHED-TTL:PT1H
BEGIN:VTIMEZONE
TZID:Europe/Amsterdam
BEGIN:DAYLIGHT
TZOFFSETFROM:+0100
TZOFFSETTO:+0200
TZNAME:CEST
DTSTART:20250330T010000
END:DAYLIGHT
BEGIN:STANDARD
TZOFFSETFROM:+0200
TZOFFSETTO:+0100
TZNAME:CET
DTSTART:20251026T010000
END:STANDARD
BEGIN:DAYLIGHT
TZOFFSETFROM:+0100
TZOFFSETTO:+0200
TZNAME:CEST
DTSTART:20260329T010000
END:DAYLIGHT
BEGIN:STANDARD
TZOFFSETFROM:+0200
TZOFFSETTO:+0100
TZNAME:CET
DTSTART:20261025T010000
END:STANDARD
BEGIN:DAYLIGHT
TZOFFSETFROM:+0100
TZOFFSETTO:+0200
TZNAME:CEST
DTSTART:20270328T010000
END:DAYLIGHT
BEGIN:STANDARD
TZOFFSETFROM:+0200
TZOFFSETTO:+0100
TZNAME:CET
DTSTART:20271031T010000
END:STANDARD
END:VTIMEZONE
BEGIN:VEVENT
DTSTART;TZID=Europe/Amsterdam:20260521T193000
DTEND;TZID=Europe/Amsterdam:20260521T223000
DTSTAMP:20260421T214319
CREATED:20251211T112506Z
LAST-MODIFIED:20251211T112506Z
UID:917-1779391800-1779402600@www.vrouweninactie.nl
SUMMARY:Valpreventie - Jeroen Docks
DESCRIPTION:
URL:https://www.vrouweninactie.nl/event/valpreventie-jeroen-docks/
LOCATION:Residentie Meilust\, Bloemendaal 61\, Bergen op Zoom\, 4614CZ\, Nederland
END:VEVENT
END:VCALENDAR